BEGIN:VCALENDAR
VERSION:2.0
PRODID:-//wp-events-plugin.com//7.2.3.1//EN
BEGIN:VEVENT
UID:8@bevfluence.com
DTSTART;TZID=America/Chicago:20250204T193000
DTEND;TZID=America/Chicago:20250204T230000
DTSTAMP:20250201T125513Z
URL:https://bevfluence.com/events/canadian-cider-showcase/
SUMMARY:Canadian Cider Showcase
DESCRIPTION:\n\nWe’re thrilled to announce that BevFluence is partnering 
 with Cider Canada / Cidre Canada who is hosting the Canadian Cider Showca
 se at CHAOS Brew Club -- during CiderCon 2025 in Chicago! This exclusive e
 vent takes place on Tuesday\, February 4th\, and showcases Canadian cider 
 during an unforgettable evening celebrating Canadian cider culture. More d
 etails below.\nEvent Objectives\n\n 	Showcase Canadian Cider: Introduce at
 tendees to a variety of Canadian ciders\, providing a unique tasting exper
 ience.\n 	Networking: Provide a relaxed environment for networking among c
 ider professionals\, CHAOS members\, and local enthusiasts.\n 	Educational
  Component: Offer an engaging educational segment about Canadian cider cul
 ture and production.\n 	Promotion of Cider Canada / Cidre Canada: Increase
  brand visibility and foster relationships with potential partners and con
 sumers.\n 	Showcase CHAOS - a unique beer-focused cooperative and the valu
 es of the co-op mode.\n\nEvent Schedule\n\n 	7:30 PM: Doors Open\n\n 	Welc
 ome guests and begin with cider samples in the bar area\n\n\n 	8:00 PM - 8
 :30 PM: Facility Tour &amp\; Presentation\n\n 	Tour of CHAOS Brew Club wit
 h a presentation on their brewing process and how it relates to cider prod
 uction.\n\n\n 	8:30 PM - 9:00 PM: Educational Session\n\n 	A presentation 
 / education session with info on TBA.\n 	A guest speaker\, potentially a r
 epresentative from a leading Canadian cidery\, will lead the discussion. 
 \n\n\n 	9:00 PM - 11:00 PM: Networking &amp\; Socializing\n\n 	Attendees c
 ontinue to enjoy cider tastings.\n 	Engage with guests and facilitate netw
 orking opportunities.\n\n\n
ATTACH;FMTTYPE=image/jpeg:https://bevfluence.com/wp-content/uploads/2024/1
 2/CHAOSPosterFeb42025.png
LOCATION:CHAOS Brew Club\,  2417 West Hubbard Street\, Chicago\, Illinois\,
  60612\, United States
X-APPLE-STRUCTURED-LOCATION;VALUE=URI;X-ADDRESS= 2417 West Hubbard Street\,
  Chicago\, Illinois\, 60612\, United States;X-APPLE-RADIUS=100;X-TITLE=CHA
 OS Brew Club:geo:0,0
END:VEVENT
BEGIN:VTIMEZONE
TZID:America/Chicago
X-LIC-LOCATION:America/Chicago
BEGIN:STANDARD
DTSTART:20241103T010000
TZOFFSETFROM:-0500
TZOFFSETTO:-0600
TZNAME:CST
END:STANDARD
END:VTIMEZONE
END:VCALENDAR